BEGIN:VCALENDAR
VERSION:2.0
PRODID:-//3nity.com//3nity CMS//EN
BEGIN:VEVENT
SUMMARY:Men's Bible Study
UID:2026-07-18-1198639@91528.stablerack.com
SEQUENCE:0
STATUS:CONFIRMED
DTSTART:20260422T190000
DTEND:20260422T200000
DTSTAMP:20161222T120000
DESCRIPTION:Meet in Building B, Room 2
URL:http://91528.stablerack.com
END:VEVENT
END:VCALENDAR
