BEGIN:VCALENDAR
VERSION:2.0
PRODID:-//3nity.com//3nity CMS//EN
BEGIN:VEVENT
SUMMARY:Prayer Hour
UID:2026-07-18-1198514@91528.stablerack.com
SEQUENCE:0
STATUS:CONFIRMED
DTSTART:20260422T180000
DTEND:20260422T190000
DTSTAMP:20161222T120000
DESCRIPTION:Held in the Sanctuary
URL:http://91528.stablerack.com
END:VEVENT
END:VCALENDAR
