BEGIN:VCALENDAR
VERSION:2.0
PRODID:-//3nity.com//3nity CMS//EN
BEGIN:VEVENT
SUMMARY:Morning Worship Service
UID:2026-07-18-1198353@91528.stablerack.com
SEQUENCE:0
STATUS:CONFIRMED
DTSTART:20260419T101500
DTEND:20260419T114500
DTSTAMP:20161222T120000
DESCRIPTION:
URL:http://91528.stablerack.com
END:VEVENT
END:VCALENDAR
